BEGIN:VCALENDAR
VERSION:2.0
PRODID:-//Squarespace Inc/Squarespace 6//v6//EN
BEGIN:VEVENT
UID:6008f7d27f610332318234e5@squarespace.com
DTSTAMP:20210122T061209Z
DTSTART:20210125T230000Z
DTEND:20210126T125500Z
SUMMARY:Australia Day
GEO:-33.01043;151.591661
LOCATION:Toronto Workers Club\, 9 James Street\, Toronto\, NSW\, 2283\, Aus
 tralia
END:VEVENT
END:VCALENDAR
