BEGIN:VCALENDAR
VERSION:2.0
PRODID:-//Squarespace Inc/Squarespace 6//v6//EN
BEGIN:VEVENT
UID:5ffe88c09c7dca31db387196@squarespace.com
DTSTAMP:20210113T054755Z
DTSTART:20210130T090000Z
DTEND:20210130T100000Z
SUMMARY:Live Music | Anyerin
GEO:-33.01043;151.591661
LOCATION:Toronto Workers Club\, 9 James Street\, Toronto\, NSW\, 2283\, Aus
 tralia
END:VEVENT
END:VCALENDAR
