BEGIN:VCALENDAR
VERSION:2.0
PRODID:-//Squarespace Inc/Squarespace 6//v6//EN
BEGIN:VEVENT
UID:5ffe875bf783362c31e80f48@squarespace.com
DTSTAMP:20210113T054215Z
DTSTART:20210116T090000Z
DTEND:20210116T120000Z
SUMMARY:Live Music | Hayden Johns
GEO:-33.01043;151.591661
LOCATION:Toronto Workers Club\, 9 James Street\, Toronto\, NSW\, 2283\, Aus
 tralia
END:VEVENT
END:VCALENDAR
