BEGIN:VCALENDAR
VERSION:2.0
PRODID:-//Squarespace Inc/Squarespace 6//v6//EN
BEGIN:VEVENT
UID:5fc703b4c7c45a5eaf9be303@squarespace.com
DTSTAMP:20201202T030926Z
DTSTART:20201205T090000Z
DTEND:20201205T120000Z
SUMMARY:Live Music | James Paul
GEO:-33.01043;151.591661
LOCATION:Toronto Workers Club\, 9 James Street\, Toronto\, NSW\, 2283\, Aus
 tralia
END:VEVENT
END:VCALENDAR
