BEGIN:VCALENDAR
VERSION:2.0
PRODID:-//Squarespace Inc/Squarespace 6//v6//EN
BEGIN:VEVENT
UID:5fff696e9475673f7e463f10@squarespace.com
DTSTAMP:20210113T214719Z
DTSTART:20210123T090000Z
DTEND:20210123T120000Z
SUMMARY:Live Music | Jessica Cain
GEO:-33.01043;151.591661
LOCATION:Toronto Workers Club\, 9 James Street\, Toronto\, NSW\, 2283\, Aus
 tralia
END:VEVENT
END:VCALENDAR
