BEGIN:VCALENDAR
VERSION:2.0
PRODID:-//Squarespace Inc/Squarespace 6//v6//EN
BEGIN:VEVENT
UID:5fbc7c2bb7a66e04eae80808@squarespace.com
DTSTAMP:20210113T214310Z
DTSTART:20201128T090000Z
DTEND:20201128T120000Z
SUMMARY:Live Music | Jessica Cain
GEO:-33.01043;151.591661
LOCATION:Toronto Workers Club\, 9 James Street\, Toronto\, NSW\, 2283\, Aus
 tralia
END:VEVENT
END:VCALENDAR
