BEGIN:VCALENDAR
VERSION:2.0
PRODID:-//Squarespace Inc/Squarespace 6//v6//EN
BEGIN:VEVENT
UID:5fea87231a160718bae0b6dc@squarespace.com
DTSTAMP:20201229T013613Z
DTSTART:20210109T090000Z
DTEND:20210109T120000Z
SUMMARY:Live Music | Mark Wells
GEO:-33.01043;151.591661
LOCATION:Toronto Workers Club\, 9 James Street\, Toronto\, NSW\, 2283\, Aus
 tralia
END:VEVENT
END:VCALENDAR
