BEGIN:VCALENDAR
VERSION:2.0
PRODID:-//Squarespace Inc/Squarespace 6//v6//EN
BEGIN:VEVENT
UID:5fc81e46a9f67830caee7288@squarespace.com
DTSTAMP:20201202T232308Z
DTSTART:20201212T090000Z
DTEND:20201212T120000Z
SUMMARY:Live Music | Tim Harding
GEO:-33.01043;151.591661
LOCATION:Toronto Workers Club\, 9 James Street\, Toronto\, NSW\, 2283\, Aus
 tralia
END:VEVENT
END:VCALENDAR
