BEGIN:VCALENDAR
VERSION:2.0
PRODID:-//Squarespace Inc/Squarespace 6//v6//EN
BEGIN:VEVENT
UID:5fe2cd4762ead7457381dca9@squarespace.com
DTSTAMP:20201223T045820Z
DTSTART:20201231T093000Z
DTEND:20201231T133000Z
SUMMARY:New Years Eve Entertainment | The Rumour Trio
GEO:-33.01043;151.591661
LOCATION:Toronto Workers Club\, 9 James Street\, Toronto\, NSW\, 2283\, Aus
 tralia
END:VEVENT
END:VCALENDAR
