BEGIN:VCALENDAR
VERSION:2.0
PRODID:-//Squarespace Inc/Squarespace 6//v6//EN
BEGIN:VEVENT
UID:60078f558ee63d1170a8e82d@squarespace.com
DTSTAMP:20210121T022357Z
DTSTART:20210214T063000Z
DTEND:20210214T090000Z
SUMMARY:Valentines Day Dinner Package
GEO:-33.01043;151.591661
LOCATION:Toronto Workers Club\, 9 James Street\, Toronto\, NSW\, 2283\, Aus
 tralia
END:VEVENT
END:VCALENDAR
